BEGIN:VCALENDAR
VERSION:2.0
PRODID:icalendar-ruby
CALSCALE:GREGORIAN
METHOD:PUBLISH
BEGIN:VEVENT
DTSTAMP:20260420T171336Z
UID:65-1191320@shelbychristian.com
DTSTART:20261029T220000Z
DTEND:20261029T230000Z
CLASS:PUBLIC
CREATED:20260420T120844
DESCRIPTION:
LAST-MODIFIED:20260420T120844
LOCATION:Chruch
SUMMARY:Handbell practice
URL;VALUE=URI:https://www.shelbychristian.com/events/handbell-practice/2026
 -10-29
END:VEVENT
END:VCALENDAR
