BEGIN:VCALENDAR
VERSION:2.0
PRODID:icalendar-ruby
CALSCALE:GREGORIAN
METHOD:PUBLISH
BEGIN:VEVENT
DTSTAMP:20260420T133204Z
UID:65-1189854@shelbychristian.com
DTSTART:20261015T220000Z
DTEND:20261015T230000Z
CLASS:PUBLIC
CREATED:20260420T065905
DESCRIPTION:
LAST-MODIFIED:20260420T065905
LOCATION:Chruch
SUMMARY:Handbell practice
URL;VALUE=URI:https://www.shelbychristian.com/events/handbell-practice/2026
 -10-15
END:VEVENT
END:VCALENDAR
