BEGIN:VCALENDAR
VERSION:2.0
PRODID:icalendar-ruby
CALSCALE:GREGORIAN
METHOD:PUBLISH
BEGIN:VEVENT
DTSTAMP:20260420T114157Z
UID:65-1189853@shelbychristian.com
DTSTART:20261008T220000Z
DTEND:20261008T230000Z
CLASS:PUBLIC
CREATED:20260420T065905
DESCRIPTION:
LAST-MODIFIED:20260420T065905
LOCATION:Chruch
SUMMARY:Handbell practice
URL;VALUE=URI:https://www.shelbychristian.com/events/handbell-practice/2026
 -10-08
END:VEVENT
END:VCALENDAR
