BEGIN:VCALENDAR
VERSION:2.0
PRODID:icalendar-ruby
CALSCALE:GREGORIAN
METHOD:PUBLISH
BEGIN:VEVENT
DTSTAMP:20260420T080928Z
UID:65-1189119@shelbychristian.com
DTSTART:20260924T220000Z
DTEND:20260924T230000Z
CLASS:PUBLIC
CREATED:20260420T015003
DESCRIPTION:
LAST-MODIFIED:20260420T015003
LOCATION:Chruch
SUMMARY:Handbell practice
URL;VALUE=URI:https://www.shelbychristian.com/events/handbell-practice/2026
 -09-24
END:VEVENT
END:VCALENDAR
