BEGIN:VCALENDAR
VERSION:2.0
PRODID:icalendar-ruby
CALSCALE:GREGORIAN
METHOD:PUBLISH
BEGIN:VEVENT
DTSTAMP:20260420T062333Z
UID:65-1189118@shelbychristian.com
DTSTART:20260917T220000Z
DTEND:20260917T230000Z
CLASS:PUBLIC
CREATED:20260420T015003
DESCRIPTION:
LAST-MODIFIED:20260420T015003
LOCATION:Chruch
SUMMARY:Handbell practice
URL;VALUE=URI:https://www.shelbychristian.com/events/handbell-practice/2026
 -09-17
END:VEVENT
END:VCALENDAR
