BEGIN:VCALENDAR
VERSION:2.0
PRODID:icalendar-ruby
CALSCALE:GREGORIAN
METHOD:PUBLISH
BEGIN:VEVENT
DTSTAMP:20260420T024648Z
UID:65-1188384@shelbychristian.com
DTSTART:20260903T220000Z
DTEND:20260903T230000Z
CLASS:PUBLIC
CREATED:20260419T221307
DESCRIPTION:
LAST-MODIFIED:20260419T221307
LOCATION:Chruch
SUMMARY:Handbell practice
URL;VALUE=URI:https://www.shelbychristian.com/events/handbell-practice/2026
 -09-03
END:VEVENT
END:VCALENDAR
