BEGIN:VCALENDAR
VERSION:2.0
PRODID:icalendar-ruby
CALSCALE:GREGORIAN
METHOD:PUBLISH
BEGIN:VEVENT
DTSTAMP:20260419T230601Z
UID:65-1187651@shelbychristian.com
DTSTART:20260820T220000Z
DTEND:20260820T230000Z
CLASS:PUBLIC
CREATED:20260419T183321
DESCRIPTION:
LAST-MODIFIED:20260419T183321
LOCATION:Chruch
SUMMARY:Handbell practice
URL;VALUE=URI:https://www.shelbychristian.com/events/handbell-practice/2026
 -08-20
END:VEVENT
END:VCALENDAR
