BEGIN:VCALENDAR
VERSION:2.0
PRODID:icalendar-ruby
CALSCALE:GREGORIAN
METHOD:PUBLISH
BEGIN:VEVENT
DTSTAMP:20260419T212503Z
UID:65-1186919@shelbychristian.com
DTSTART:20260813T220000Z
DTEND:20260813T230000Z
CLASS:PUBLIC
CREATED:20260419T145032
DESCRIPTION:
LAST-MODIFIED:20260419T145032
LOCATION:Chruch
SUMMARY:Handbell practice
URL;VALUE=URI:https://www.shelbychristian.com/events/handbell-practice/2026
 -08-13
END:VEVENT
END:VCALENDAR
