BEGIN:VCALENDAR
VERSION:2.0
PRODID:icalendar-ruby
CALSCALE:GREGORIAN
METHOD:PUBLISH
BEGIN:VEVENT
DTSTAMP:20260419T153007Z
UID:65-1186185@shelbychristian.com
DTSTART:20260723T220000Z
DTEND:20260723T230000Z
CLASS:PUBLIC
CREATED:20260419T110834
DESCRIPTION:
LAST-MODIFIED:20260419T110834
LOCATION:Chruch
SUMMARY:Handbell practice
URL;VALUE=URI:https://www.shelbychristian.com/events/handbell-practice/2026
 -07-23
END:VEVENT
END:VCALENDAR
