BEGIN:VCALENDAR
VERSION:2.0
PRODID:icalendar-ruby
CALSCALE:GREGORIAN
METHOD:PUBLISH
BEGIN:VEVENT
DTSTAMP:20260419T140224Z
UID:65-1185454@shelbychristian.com
DTSTART:20260716T220000Z
DTEND:20260716T230000Z
CLASS:PUBLIC
CREATED:20260419T072541
DESCRIPTION:
LAST-MODIFIED:20260419T072541
LOCATION:Chruch
SUMMARY:Handbell practice
URL;VALUE=URI:https://www.shelbychristian.com/events/handbell-practice/2026
 -07-16
END:VEVENT
END:VCALENDAR
