BEGIN:VCALENDAR
VERSION:2.0
PRODID:icalendar-ruby
CALSCALE:GREGORIAN
METHOD:PUBLISH
BEGIN:VEVENT
DTSTAMP:20260419T114954Z
UID:65-1185453@shelbychristian.com
DTSTART:20260709T220000Z
DTEND:20260709T230000Z
CLASS:PUBLIC
CREATED:20260419T072541
DESCRIPTION:
LAST-MODIFIED:20260419T072541
LOCATION:Chruch
SUMMARY:Handbell practice
URL;VALUE=URI:https://www.shelbychristian.com/events/handbell-practice/2026
 -07-09
END:VEVENT
END:VCALENDAR
